BEGIN:VCALENDAR
VERSION:2.0
PRODID:SchoolNow
CALSCALE:GREGORIAN
BEGIN:VEVENT
UID:18cd9708-4c96-11f0-93d8-0e14644fe91b
DTSTAMP:20251216T154648Z
SUMMARY:Coco Party
URL;VALUE=URI:https://www.tusd.org/schools/anza/calendar/8325860/coco-party
DTSTART;VALUE=DATE:20251211
DTEND;VALUE=DATE:20251212
END:VEVENT
END:VCALENDAR
