BEGIN:VCALENDAR
VERSION:2.0
PRODID:SchoolNow
CALSCALE:GREGORIAN
BEGIN:VEVENT
UID:18cd9622-4c96-11f0-9955-0e14644fe91b
DTSTAMP:20251216T154648Z
SUMMARY:Progress Reports
URL;VALUE=URI:https://www.tusd.org/schools/anza/calendar/8325859/progress-r
 eports
DTSTART;VALUE=DATE:20251205
DTEND;VALUE=DATE:20251206
END:VEVENT
END:VCALENDAR
