BEGIN:VCALENDAR
VERSION:2.0
PRODID:SchoolNow
CALSCALE:GREGORIAN
BEGIN:VEVENT
UID:18cd9546-4c96-11f0-9b75-0e14644fe91b
DTSTAMP:20251216T154648Z
SUMMARY:Thanksgiving Break 11/24-11/28
URL;VALUE=URI:https://www.tusd.org/schools/anza/calendar/8325858/thanksgivi
 ng-break-11-24-11-28
DTSTART;VALUE=DATE:20251124
DTEND;VALUE=DATE:20251129
END:VEVENT
END:VCALENDAR
