BEGIN:VCALENDAR
VERSION:2.0
PRODID:SchoolNow
CALSCALE:GREGORIAN
BEGIN:VEVENT
UID:18cd9460-4c96-11f0-8e13-0e14644fe91b
DTSTAMP:20251216T154648Z
SUMMARY:Mismatch Day
URL;VALUE=URI:https://www.tusd.org/schools/anza/calendar/8325857/mismatch-d
 ay
DTSTART;VALUE=DATE:20251121
DTEND;VALUE=DATE:20251122
END:VEVENT
END:VCALENDAR
