BEGIN:VCALENDAR
VERSION:2.0
PRODID:SchoolNow
CALSCALE:GREGORIAN
BEGIN:VEVENT
UID:18cd9384-4c96-11f0-b325-0e14644fe91b
DTSTAMP:20251216T154648Z
SUMMARY:Family Dance
URL;VALUE=URI:https://www.tusd.org/schools/anza/calendar/8325856/family-dan
 ce
DTSTART;VALUE=DATE:20251206
DTEND;VALUE=DATE:20251207
END:VEVENT
END:VCALENDAR
