BEGIN:VCALENDAR
VERSION:2.0
PRODID:SchoolNow
CALSCALE:GREGORIAN
BEGIN:VEVENT
UID:18cd92a8-4c96-11f0-a031-0e14644fe91b
DTSTAMP:20251216T154648Z
SUMMARY:NO SCHOOL-STAFF DEVELOPMENT DAY
URL;VALUE=URI:https://www.tusd.org/schools/anza/calendar/8325855/no-school-
 staff-development-day
DTSTART;VALUE=DATE:20251110
DTEND;VALUE=DATE:20251111
END:VEVENT
END:VCALENDAR
