BEGIN:VCALENDAR
VERSION:2.0
PRODID:SchoolNow
CALSCALE:GREGORIAN
BEGIN:VEVENT
UID:18cd91c2-4c96-11f0-be9d-0e14644fe91b
DTSTAMP:20251216T154648Z
SUMMARY:Veterans Day-NO SCHOOL
URL;VALUE=URI:https://www.tusd.org/schools/anza/calendar/8325854/veterans-d
 ay-no-school
DTSTART;VALUE=DATE:20251111
DTEND;VALUE=DATE:20251112
END:VEVENT
END:VCALENDAR
