BEGIN:VCALENDAR
VERSION:2.0
PRODID:SchoolNow
CALSCALE:GREGORIAN
BEGIN:VEVENT
UID:18cd90dc-4c96-11f0-a6da-0e14644fe91b
DTSTAMP:20251216T154648Z
SUMMARY:Red Ribbon Week Ends
URL;VALUE=URI:https://www.tusd.org/schools/anza/calendar/8325853/red-ribbon
 -week-ends
DTSTART;VALUE=DATE:20251031
DTEND;VALUE=DATE:20251101
END:VEVENT
END:VCALENDAR
