BEGIN:VCALENDAR
VERSION:2.0
PRODID:SchoolNow
CALSCALE:GREGORIAN
BEGIN:VEVENT
UID:18cd8f9c-4c96-11f0-8874-0e14644fe91b
DTSTAMP:20251216T154648Z
SUMMARY:Red Ribbon Week Begins
URL;VALUE=URI:https://www.tusd.org/schools/anza/calendar/8325852/red-ribbon
 -week-begins
DTSTART;VALUE=DATE:20251027
DTEND;VALUE=DATE:20251028
END:VEVENT
END:VCALENDAR
