BEGIN:VCALENDAR
VERSION:2.0
PRODID:SchoolNow
CALSCALE:GREGORIAN
BEGIN:VEVENT
UID:18cd8dbc-4c96-11f0-b6b2-0e14644fe91b
DTSTAMP:20251216T154648Z
SUMMARY:Trunk or Treat
URL;VALUE=URI:https://www.tusd.org/schools/anza/calendar/8325850/trunk-or-t
 reat
DTSTART;VALUE=DATE:20251024
DTEND;VALUE=DATE:20251025
END:VEVENT
END:VCALENDAR
