BEGIN:VCALENDAR
VERSION:2.0
PRODID:SchoolNow
CALSCALE:GREGORIAN
BEGIN:VEVENT
UID:18cd8bd2-4c96-11f0-80ae-0e14644fe91b
DTSTAMP:20251216T154648Z
SUMMARY:Parent Conferences-Minimum Day- TK&K @ 1:50pm\, 1st-3rd @ 2:03pm\, 
 4th-5th @212pm
URL;VALUE=URI:https://www.tusd.org/schools/anza/calendar/8325848/parent-con
 ferences-minimum-day-tk-k-1-50pm-1st-3rd-2-03pm-4th-5th-212pm
DTSTART;VALUE=DATE:20251016
DTEND;VALUE=DATE:20251018
END:VEVENT
END:VCALENDAR
