BEGIN:VCALENDAR
VERSION:2.0
PRODID:SchoolNow
CALSCALE:GREGORIAN
BEGIN:VEVENT
UID:18cd897a-4c96-11f0-8279-0e14644fe91b
DTSTAMP:20251216T154648Z
SUMMARY:NO SCHOOL
URL;VALUE=URI:https://www.tusd.org/schools/anza/calendar/8325846/no-school
DTSTART;VALUE=DATE:20251002
DTEND;VALUE=DATE:20251003
END:VEVENT
END:VCALENDAR
