BEGIN:VCALENDAR
VERSION:2.0
PRODID:SchoolNow
CALSCALE:GREGORIAN
BEGIN:VEVENT
UID:18cd884e-4c96-11f0-b834-0e14644fe91b
DTSTAMP:20251216T154648Z
SUMMARY:Progress Reports
URL;VALUE=URI:https://www.tusd.org/schools/anza/calendar/8325845/progress-r
 eports
DTSTART;VALUE=DATE:20251010
DTEND;VALUE=DATE:20251011
END:VEVENT
END:VCALENDAR
