BEGIN:VCALENDAR
VERSION:2.0
PRODID:SchoolNow
CALSCALE:GREGORIAN
BEGIN:VEVENT
UID:18cd874a-4c96-11f0-8c53-0e14644fe91b
DTSTAMP:20251216T154648Z
SUMMARY:Fall Festival Family Night W/Book Fair
URL;VALUE=URI:https://www.tusd.org/schools/anza/calendar/8325844/fall-festi
 val-family-night-w-book-fair
DTSTART;VALUE=DATE:20250925
DTEND;VALUE=DATE:20250926
END:VEVENT
END:VCALENDAR
