BEGIN:VCALENDAR
VERSION:2.0
PRODID:SchoolNow
CALSCALE:GREGORIAN
BEGIN:VEVENT
UID:18cd85f6-4c96-11f0-a448-0e14644fe91b
DTSTAMP:20251216T154648Z
SUMMARY:Book Fair
URL;VALUE=URI:https://www.tusd.org/schools/anza/calendar/8325843/book-fair
DTSTART;VALUE=DATE:20250922
DTEND;VALUE=DATE:20250927
END:VEVENT
END:VCALENDAR
