BEGIN:VCALENDAR
VERSION:2.0
PRODID:SchoolNow
CALSCALE:GREGORIAN
BEGIN:VEVENT
UID:18cd82cc-4c96-11f0-bf7d-0e14644fe91b
DTSTAMP:20251216T154648Z
SUMMARY:NO SCHOOL! Student Free Day-Staff Development
URL;VALUE=URI:https://www.tusd.org/schools/anza/calendar/8325842/no-school-
 student-free-day-staff-development
DTSTART;VALUE=DATE:20250919
DTEND;VALUE=DATE:20250920
END:VEVENT
END:VCALENDAR
