BEGIN:VCALENDAR
VERSION:2.0
PRODID:SchoolNow
CALSCALE:GREGORIAN
BEGIN:VEVENT
UID:fab78370-4c6b-11f0-b734-0a58a9feac02
DTSTAMP:20251216T154648Z
SUMMARY:Back to School Night-Minimum Day-TK & K @1:50PM\, 1st-3rd @ 2:03PM\
 , 4th-5th @ 2:12PM
URL;VALUE=URI:https://www.tusd.org/schools/anza/calendar/8324344/back-to-sc
 hool-night-minimum-day-tk-k-1-50pm-1st-3rd-2-03pm-4th-5th-2-12pm
DTSTART:20250912T003000Z
DTEND:20250912T021000Z
ATTACH;FILENAME=Notes - Back to School Night?;FMTTYPE=application/octet-str
 eam:https://docs.google.com/document/d/1rneHVh5NNLomI9fvLn6TShk0yAVcwVjEpc
 OxTyhRw8Y/edit
END:VEVENT
END:VCALENDAR
