BEGIN:VCALENDAR
VERSION:2.0
PRODID:SchoolNow
CALSCALE:GREGORIAN
BEGIN:VEVENT
UID:fab78258-4c6b-11f0-8a4c-0a58a9feac02
DTSTAMP:20251216T154648Z
SUMMARY:Fall Pictures
URL;VALUE=URI:https://www.tusd.org/schools/anza/calendar/8324343/fall-pictu
 res
DTSTART;VALUE=DATE:20250903
DTEND;VALUE=DATE:20250904
END:VEVENT
END:VCALENDAR
