BEGIN:VCALENDAR
VERSION:2.0
PRODID:SchoolNow
CALSCALE:GREGORIAN
BEGIN:VEVENT
UID:fab7812c-4c6b-11f0-867d-0a58a9feac02
DTSTAMP:20251216T154648Z
SUMMARY:Pledge Drive Ends
URL;VALUE=URI:https://www.tusd.org/schools/anza/calendar/8324342/pledge-dri
 ve-ends
DTSTART;VALUE=DATE:20250905
DTEND;VALUE=DATE:20250906
END:VEVENT
END:VCALENDAR
