BEGIN:VCALENDAR
VERSION:2.0
PRODID:SchoolNow
CALSCALE:GREGORIAN
BEGIN:VEVENT
UID:fab77f88-4c6b-11f0-bc7d-0a58a9feac02
DTSTAMP:20251216T154648Z
SUMMARY:Pledge Drive Starts
URL;VALUE=URI:https://www.tusd.org/schools/anza/calendar/8324341/pledge-dri
 ve-starts
DTSTART;VALUE=DATE:20250825
DTEND;VALUE=DATE:20250906
END:VEVENT
END:VCALENDAR
