BEGIN:VCALENDAR
VERSION:2.0
PRODID:SchoolNow
CALSCALE:GREGORIAN
BEGIN:VEVENT
UID:fab75f3a-4c6b-11f0-9891-0a58a9feac02
DTSTAMP:20251216T154648Z
SUMMARY:Poppin into School
URL;VALUE=URI:https://www.tusd.org/schools/anza/calendar/8324340/poppin-int
 o-school
DTSTART:20250821T000000Z
DTEND:20250821T010000Z
END:VEVENT
END:VCALENDAR
