BEGIN:VCALENDAR
VERSION:2.0
PRODID:SchoolNow
CALSCALE:GREGORIAN
BEGIN:VEVENT
UID:7d952bee-0e07-11e9-bb94-0abff5cafd4e
DTSTAMP:20190101T205454Z
SUMMARY:5th Grade Health Education - Parent Preview
LOCATION:Room 32
URL;VALUE=URI:https://www.tusd.org/schools/anza/anza-old/calendar/1923833/5
 th-grade-health-education-parent-preview
DTSTART:20190111T013000Z
DTEND:20190111T023000Z
END:VEVENT
END:VCALENDAR
