BEGIN:VCALENDAR
VERSION:2.0
PRODID:SchoolNow
CALSCALE:GREGORIAN
BEGIN:VEVENT
UID:0c5a6dc8-d78a-11f0-8291-0affc9f206af
DTSTAMP:20251216T200025Z
SUMMARY:PTA Winter Wonderland
URL;VALUE=URI:https://www.tusd.org/schools/adams/calendar/8822871/pta-winte
 r-wonderland
DTSTART:20251213T010000Z
DTEND:20251213T040000Z
END:VEVENT
END:VCALENDAR
