BEGIN:VCALENDAR
VERSION:2.0
PRODID:SchoolNow
CALSCALE:GREGORIAN
BEGIN:VEVENT
UID:0f251d68-d6be-11f0-a5b7-0a58a9feac02
DTSTAMP:20251216T200024Z
SUMMARY:PTA Scholastic Book Fair in Cafeteria
URL;VALUE=URI:https://www.tusd.org/schools/adams/calendar/8821885/pta-schol
 astic-book-fair-in-cafeteria
DTSTART:20251211T215000Z
DTEND:20251212T000000Z
END:VEVENT
END:VCALENDAR
