BEGIN:VCALENDAR
VERSION:2.0
PRODID:SchoolNow
CALSCALE:GREGORIAN
BEGIN:VEVENT
UID:2a35cd24-d48d-11f0-a403-0afff21bf1e5
DTSTAMP:20251216T200024Z
SUMMARY:Adams Holiday Spirit Week: Holiday Headwear Thursday
URL;VALUE=URI:https://www.tusd.org/schools/adams/calendar/8820200/adams-hol
 iday-spirit-week-holiday-headwear-thursday
DTSTART;VALUE=DATE:20251218
DTEND;VALUE=DATE:20251219
END:VEVENT
END:VCALENDAR
