BEGIN:VCALENDAR
VERSION:2.0
PRODID:SchoolNow
CALSCALE:GREGORIAN
BEGIN:VEVENT
UID:2a35c928-d48d-11f0-bdda-0afff21bf1e5
DTSTAMP:20251216T200024Z
SUMMARY:Adams Holiday Spirit Week: Ugly Sweater Tuesday
URL;VALUE=URI:https://www.tusd.org/schools/adams/calendar/8820199/adams-hol
 iday-spirit-week-ugly-sweater-tuesday
DTSTART;VALUE=DATE:20251216
DTEND;VALUE=DATE:20251217
END:VEVENT
END:VCALENDAR
