BEGIN:VCALENDAR
VERSION:2.0
PRODID:SchoolNow
CALSCALE:GREGORIAN
BEGIN:VEVENT
UID:2a35c6a8-d48d-11f0-8073-0afff21bf1e5
DTSTAMP:20251216T200025Z
SUMMARY:Adams Holiday Spirit Week: Pajama Friday
URL;VALUE=URI:https://www.tusd.org/schools/adams/calendar/8820198/adams-hol
 iday-spirit-week-pajama-friday
DTSTART;VALUE=DATE:20251219
DTEND;VALUE=DATE:20251220
END:VEVENT
END:VCALENDAR
