BEGIN:VCALENDAR
VERSION:2.0
PRODID:SchoolNow
CALSCALE:GREGORIAN
BEGIN:VEVENT
UID:2a35c40a-d48d-11f0-b87c-0afff21bf1e5
DTSTAMP:20251216T200025Z
SUMMARY:Adams Holiday Spirit Week: Monochrome Monday
URL;VALUE=URI:https://www.tusd.org/schools/adams/calendar/8820197/adams-hol
 iday-spirit-week-monochrome-monday
DTSTART;VALUE=DATE:20251215
DTEND;VALUE=DATE:20251216
END:VEVENT
END:VCALENDAR
