BEGIN:VCALENDAR
VERSION:2.0
PRODID:SchoolNow
CALSCALE:GREGORIAN
BEGIN:VEVENT
UID:2a35c054-d48d-11f0-b37f-0afff21bf1e5
DTSTAMP:20251216T200024Z
SUMMARY:Adams Holiday Spirit Week: Winter Wonderland Wednesday
URL;VALUE=URI:https://www.tusd.org/schools/adams/calendar/8820196/adams-hol
 iday-spirit-week-winter-wonderland-wednesday
DTSTART;VALUE=DATE:20251217
DTEND;VALUE=DATE:20251218
END:VEVENT
END:VCALENDAR
