BEGIN:VCALENDAR
VERSION:2.0
PRODID:SchoolNow
CALSCALE:GREGORIAN
BEGIN:VEVENT
UID:696c813a-cfc5-11f0-ada6-0a58a9feac02
DTSTAMP:20251216T200025Z
SUMMARY:PTA Restaurant Night Fundraiser: The Brews Hall @ Del Amo (11:30 a.
 m. - 10 p.m.)
URL;VALUE=URI:https://www.tusd.org/schools/adams/calendar/8815801/pta-resta
 urant-night-fundraiser-the-brews-hall-del-amo-11-30-a-m-10-p-m
DTSTART;VALUE=DATE:20251211
DTEND;VALUE=DATE:20251212
END:VEVENT
END:VCALENDAR
