BEGIN:VCALENDAR
VERSION:2.0
PRODID:SchoolNow
CALSCALE:GREGORIAN
BEGIN:VEVENT
UID:b945424c-c998-11f0-98fa-0a58a9feac02
DTSTAMP:20251216T200025Z
SUMMARY:PTA Scholastic Book Fair in Cafeteria
URL;VALUE=URI:https://www.tusd.org/schools/adams/calendar/8809344/pta-schol
 astic-book-fair-in-cafeteria
DTSTART:20251210T215000Z
DTEND:20251210T233000Z
END:VEVENT
END:VCALENDAR
