BEGIN:VCALENDAR
VERSION:2.0
PRODID:SchoolNow
CALSCALE:GREGORIAN
BEGIN:VEVENT
UID:b9453e28-c998-11f0-a1a2-0a58a9feac02
DTSTAMP:20251216T200024Z
SUMMARY:Virtual SSC Meeting #2
URL;VALUE=URI:https://www.tusd.org/schools/adams/calendar/8809342/virtual-s
 sc-meeting-2
DTSTART:20251112T233000Z
DTEND:20251113T003000Z
END:VEVENT
END:VCALENDAR
