BEGIN:VCALENDAR
VERSION:2.0
PRODID:SchoolNow
CALSCALE:GREGORIAN
BEGIN:VEVENT
UID:b9453d10-c998-11f0-bacb-0a58a9feac02
DTSTAMP:20251216T200025Z
SUMMARY:PTA Scholastic Book Fair in Cafeteria
URL;VALUE=URI:https://www.tusd.org/schools/adams/calendar/8809341/pta-schol
 astic-book-fair-in-cafeteria
DTSTART:20251213T010000Z
DTEND:20251213T020000Z
END:VEVENT
END:VCALENDAR
