BEGIN:VCALENDAR
VERSION:2.0
PRODID:SchoolNow
CALSCALE:GREGORIAN
BEGIN:VEVENT
UID:b9452f82-c998-11f0-8014-0a58a9feac02
DTSTAMP:20251216T200025Z
SUMMARY:PTA Scholastic Book Fair in Cafeteria
URL;VALUE=URI:https://www.tusd.org/schools/adams/calendar/8809338/pta-schol
 astic-book-fair-in-cafeteria
DTSTART:20251208T215000Z
DTEND:20251209T000000Z
END:VEVENT
END:VCALENDAR
