BEGIN:VCALENDAR
VERSION:2.0
PRODID:SchoolNow
CALSCALE:GREGORIAN
BEGIN:VEVENT
UID:1d508da4-c1d4-11f0-8d04-0a58a9feac02
DTSTAMP:20251216T200025Z
SUMMARY:Virtual ELMAC Meeting #2
URL;VALUE=URI:https://www.tusd.org/schools/adams/calendar/8796660/virtual-e
 lmac-meeting-2
DTSTART:20251117T180000Z
DTEND:20251117T190000Z
END:VEVENT
END:VCALENDAR
