BEGIN:VCALENDAR
VERSION:2.0
PRODID:SchoolNow
CALSCALE:GREGORIAN
BEGIN:VEVENT
UID:aa7d98ee-b6ac-11f0-aa9a-0effa2419e9b
DTSTAMP:20251216T200024Z
SUMMARY:John Adams Sock Drive
URL;VALUE=URI:https://www.tusd.org/schools/adams/calendar/8765873/john-adam
 s-sock-drive
DTSTART;VALUE=DATE:20251103
DTEND;VALUE=DATE:20251213
END:VEVENT
END:VCALENDAR
