BEGIN:VCALENDAR
VERSION:2.0
PRODID:SchoolNow
CALSCALE:GREGORIAN
BEGIN:VEVENT
UID:bee738f6-b514-11f0-81ba-0a58a9feac02
DTSTAMP:20251216T200024Z
SUMMARY:NEW DATE: 5th Grade Panoramic Picture & Fall Retake Day
URL;VALUE=URI:https://www.tusd.org/schools/adams/calendar/8760138/new-date-
 5th-grade-panoramic-picture-fall-retake-day
DTSTART;VALUE=DATE:20251205
DTEND;VALUE=DATE:20251206
END:VEVENT
END:VCALENDAR
