BEGIN:VCALENDAR
VERSION:2.0
PRODID:SchoolNow
CALSCALE:GREGORIAN
BEGIN:VEVENT
UID:a39a1faa-ade9-11f0-9bcc-029a4a85451d
DTSTAMP:20251216T200024Z
SUMMARY:Red Ribbon Week: Friday - Wear Adams Spirit Wear or Red/White/Blue
URL;VALUE=URI:https://www.tusd.org/schools/adams/calendar/8736140/red-ribbo
 n-week-friday-wear-adams-spirit-wear-or-red-white-blue
DTSTART;VALUE=DATE:20251024
DTEND;VALUE=DATE:20251025
END:VEVENT
END:VCALENDAR
