BEGIN:VCALENDAR
VERSION:2.0
PRODID:SchoolNow
CALSCALE:GREGORIAN
BEGIN:VEVENT
UID:a39a1e9c-ade9-11f0-9f27-029a4a85451d
DTSTAMP:20251216T200024Z
SUMMARY:Red Ribbon Week: Thursday - Wear your favorite sports team shirt/je
 rsey
URL;VALUE=URI:https://www.tusd.org/schools/adams/calendar/8736139/red-ribbo
 n-week-thursday-wear-your-favorite-sports-team-shirt-jersey
DTSTART;VALUE=DATE:20251023
DTEND;VALUE=DATE:20251024
END:VEVENT
END:VCALENDAR
