BEGIN:VCALENDAR
VERSION:2.0
PRODID:SchoolNow
CALSCALE:GREGORIAN
BEGIN:VEVENT
UID:a39a1d66-ade9-11f0-a7e5-029a4a85451d
DTSTAMP:20251216T200025Z
SUMMARY:Red Ribbon Week: Wednesday - Wear Bright/Neon Colors
URL;VALUE=URI:https://www.tusd.org/schools/adams/calendar/8736138/red-ribbo
 n-week-wednesday-wear-bright-neon-colors
DTSTART;VALUE=DATE:20251022
DTEND;VALUE=DATE:20251023
END:VEVENT
END:VCALENDAR
