BEGIN:VCALENDAR
VERSION:2.0
PRODID:SchoolNow
CALSCALE:GREGORIAN
BEGIN:VEVENT
UID:a39a1a46-ade9-11f0-b95e-029a4a85451d
DTSTAMP:20251216T200025Z
SUMMARY:Red Ribbon Week: Tuesday - Wear a Superhero or positive character s
 hirt
URL;VALUE=URI:https://www.tusd.org/schools/adams/calendar/8736137/red-ribbo
 n-week-tuesday-wear-a-superhero-or-positive-character-shirt
DTSTART;VALUE=DATE:20251021
DTEND;VALUE=DATE:20251022
END:VEVENT
END:VCALENDAR
