BEGIN:VCALENDAR
VERSION:2.0
PRODID:SchoolNow
CALSCALE:GREGORIAN
BEGIN:VEVENT
UID:3f26e188-aa02-11f0-9fed-0affff4870a7
DTSTAMP:20251216T200024Z
SUMMARY:TUSD GREAT CALIFORNIA SHAKE OUT EARTHQUAKE DRILL
URL;VALUE=URI:https://www.tusd.org/schools/adams/calendar/8724937/tusd-grea
 t-california-shake-out-earthquake-drill
DTSTART;VALUE=DATE:20251016
DTEND;VALUE=DATE:20251017
END:VEVENT
END:VCALENDAR
