BEGIN:VCALENDAR
VERSION:2.0
PRODID:SchoolNow
CALSCALE:GREGORIAN
BEGIN:VEVENT
UID:3f26c20c-aa02-11f0-b627-0affff4870a7
DTSTAMP:20251216T200024Z
SUMMARY:SSC Virtual Meeting #1
URL;VALUE=URI:https://www.tusd.org/schools/adams/calendar/8724936/ssc-virtu
 al-meeting-1
DTSTART:20251022T223000Z
DTEND:20251022T233000Z
END:VEVENT
END:VCALENDAR
