BEGIN:VCALENDAR
VERSION:2.0
PRODID:SchoolNow
CALSCALE:GREGORIAN
BEGIN:VEVENT
UID:549271fc-a86a-11f0-8046-0257fbb223b7
DTSTAMP:20251216T200024Z
SUMMARY:Red Ribbon Week: Monday - Wear a Lei or Floral/Tropical Shirts
URL;VALUE=URI:https://www.tusd.org/schools/adams/calendar/8719721/red-ribbo
 n-week-monday-wear-a-lei-or-floral-tropical-shirts
DTSTART;VALUE=DATE:20251020
DTEND;VALUE=DATE:20251021
END:VEVENT
END:VCALENDAR
