BEGIN:VCALENDAR
VERSION:2.0
PRODID:SchoolNow
CALSCALE:GREGORIAN
BEGIN:VEVENT
UID:8fe553da-a3d5-11f0-84ae-0affd048010f
DTSTAMP:20251216T200024Z
SUMMARY:PTA meeting 6:30pm
URL;VALUE=URI:https://www.tusd.org/schools/adams/calendar/8703969/pta-meeti
 ng-6-30pm
DTSTART:20251010T013000Z
DTEND:20251010T030000Z
END:VEVENT
END:VCALENDAR
