BEGIN:VCALENDAR
VERSION:2.0
PRODID:SchoolNow
CALSCALE:GREGORIAN
BEGIN:VEVENT
UID:cdc6f20c-9f0d-11f0-95f5-0e79fc7f1f55
DTSTAMP:20251216T200024Z
SUMMARY:PTA Trunk or Treat
URL;VALUE=URI:https://www.tusd.org/schools/adams/calendar/8685363/pta-trunk
 -or-treat
DTSTART:20251025T000000Z
DTEND:20251025T030000Z
END:VEVENT
END:VCALENDAR
