BEGIN:VCALENDAR
VERSION:2.0
PRODID:SchoolNow
CALSCALE:GREGORIAN
BEGIN:VEVENT
UID:23c6041a-9282-11f0-af4e-0a58a9feac02
DTSTAMP:20251216T200025Z
SUMMARY:[TBD] Virtual School Site Council Meeting #1 [CANCELLED\, WILL BE R
 ESCHEDULED]
URL;VALUE=URI:https://www.tusd.org/schools/adams/calendar/8626205/tbd-virtu
 al-school-site-council-meeting-1-cancelled-will-be-rescheduled
DTSTART:20250924T223000Z
DTEND:20250924T233000Z
END:VEVENT
END:VCALENDAR
