BEGIN:VCALENDAR
VERSION:2.0
PRODID:SchoolNow
CALSCALE:GREGORIAN
BEGIN:VEVENT
UID:5988e61c-885a-11f0-af6e-0e5ce71a5aa5
DTSTAMP:20251216T200024Z
SUMMARY:Last Day of School!
URL;VALUE=URI:https://www.tusd.org/schools/adams/calendar/8572680/last-day-
 of-school
DTSTART;VALUE=DATE:20260611
DTEND;VALUE=DATE:20260612
END:VEVENT
END:VCALENDAR
