BEGIN:VCALENDAR
VERSION:2.0
PRODID:SchoolNow
CALSCALE:GREGORIAN
BEGIN:VEVENT
UID:5988e50e-885a-11f0-8fe2-0e5ce71a5aa5
DTSTAMP:20251216T200025Z
SUMMARY:Parents are able to view Achievement Reports on PowerSchool
URL;VALUE=URI:https://www.tusd.org/schools/adams/calendar/8572679/parents-a
 re-able-to-view-achievement-reports-on-powerschool
DTSTART;VALUE=DATE:20260611
DTEND;VALUE=DATE:20260612
END:VEVENT
END:VCALENDAR
