BEGIN:VCALENDAR
VERSION:2.0
PRODID:SchoolNow
CALSCALE:GREGORIAN
BEGIN:VEVENT
UID:5988e27a-885a-11f0-9f41-0e5ce71a5aa5
DTSTAMP:20251216T200025Z
SUMMARY:Spring Break - No School
URL;VALUE=URI:https://www.tusd.org/schools/adams/calendar/8572677/spring-br
 eak-no-school
DTSTART;VALUE=DATE:20260330
DTEND;VALUE=DATE:20260404
END:VEVENT
END:VCALENDAR
